BEGIN:VCALENDAR
VERSION:2.0
PRODID:-//hacksw/handcal//NONSGML v1.0//EN
BEGIN:VEVENT
SUMMARY:FRANCE TIR
UID:32ecc2d0-a3f0-46c3-8b13-20ed4ca3f700
DTSTART:20270403T053000Z
DTEND:20270403T163000Z
LOCATION:Localisation   
CATEGORIES:Manifestation
STATUS:
URL;VALUE=URI:https://www.obsm.fr/evenements/2027/04/03/france-tir-2443850
END:VEVENT
END:VCALENDAR
